BEGIN:VCALENDAR
VERSION:2.0
PRODID:SFPL Web Calendar
BEGIN:VEVENT
UID:58359@sfpl.org
DTSTAMP:20231015T210000Z
DTSTART:20231015T210000Z
DTEND:20231015T223000Z
SUMMARY:Author: Pam Peirce, Golden Gate Gardening
DESCRIPTION:<p>In this class you will learn how to make your dream of eating from a garden a reality. You will learn what to plant and when&nbsp;and learn some delicious recipes that use what you can grow&mdash;year-round. Recipe handouts and links will be provided. After her talk Pam will sell and sign&nbsp;<a href="https://sfpl.bibliocommons.com/v2/record/S93C5897944"><em>Golden Gate Gardening</em></a><em>.</em></p>

<p>Pam Peirce is a San Francisco-based gardener, author, photographer, and lecturer. She is celebrating publication of the 4<em>th&nbsp;</em>(30<em>th</em>&nbsp;Anniversary) edition of her classic regional gardening book,&nbsp;<a href="https://sfpl.bibliocommons.com/v2/record/S93C5897944"><em>Golden Gate Gardening</em></a>. (It includes useful recipes.) Pam taught horticulture at City College of San Francisco for nearly 30 years and writes widely on gardening and food issues.</p>
LOCATION:Bernal Heights - Bernal Heights Meeting Room
CLASS:PUBLIC
TRANSP:TRANSPARENT
END:VEVENT
BEGIN:VALARM
TRIGGER:-PT1440M
ACTION:DISPLAY
DESCRIPTION:Event Reminder - Author: Pam Peirce, Golden Gate Gardening
END:VALARM
END:VCALENDAR