BEGIN:VCALENDAR
VERSION:2.0
PRODID:SFPL Web Calendar
BEGIN:VEVENT
UID:58464@sfpl.org
DTSTAMP:20230514T210000Z
DTSTART:20230514T210000Z
DTEND:20230514T230000Z
SUMMARY:Film: Tokyo Godfathers
DESCRIPTION:<p>Join fellow teens to watch this animated film by Japanese director Satoshi Kon&nbsp;and enjoy Japanese snacks in honor of Asian American/Native Hawaiian/Pacific Islander Heritage Month.&nbsp; For ages 13-18.</p>

<p>PG-13, 92 mins., 2004.&nbsp; Japanese with Closed captions (CC) in English.&nbsp;</p>
LOCATION:Park - Park Meeting Room
CLASS:PUBLIC
TRANSP:TRANSPARENT
END:VEVENT
BEGIN:VALARM
TRIGGER:-PT1440M
ACTION:DISPLAY
DESCRIPTION:Event Reminder - Film: Tokyo Godfathers
END:VALARM
END:VCALENDAR