BEGIN:VCALENDAR
VERSION:2.0
PRODID:SFPL Web Calendar
BEGIN:VEVENT
UID:58486@sfpl.org
DTSTAMP:20230729T200000Z
DTSTART:20230729T200000Z
DTEND:20230729T220000Z
SUMMARY:Activity: San Francisco Botanical Garden Walking Tour
DESCRIPTION:<p>Explore San Francisco Botanical Gardens with your Park Branch librarian. Meet at Park Branch and walk to San Francisco Botanical Gardens with a librarian. Visit the Botanical Gardens library and participate in a family-friendly tour led by garden staff, with a nature activity and book giveaway to follow. For children and their families.&nbsp;Space limited. Reservations required: (415) 355-5656.</p>
LOCATION:Park - Park Meeting Room
CLASS:PUBLIC
TRANSP:TRANSPARENT
END:VEVENT
BEGIN:VALARM
TRIGGER:-PT1440M
ACTION:DISPLAY
DESCRIPTION:Event Reminder - Activity: San Francisco Botanical Garden Walking Tour
END:VALARM
END:VCALENDAR