BEGIN:VCALENDAR
VERSION:2.0
PRODID:SFPL Web Calendar
BEGIN:VEVENT
UID:58509@sfpl.org
DTSTAMP:20230427T000000Z
DTSTART:20230427T000000Z
DTEND:20230427T010000Z
SUMMARY:Presentation: Covering What Original Medicare Doesn't
DESCRIPTION:<p>Scott Rowe will present&nbsp;Medicare topics in an informative and educational setting, so you and your loved ones can navigate your health care needs more successfully. Ample time for questions and answers will follow the presentation.</p>

<p>This is the 3rd part of a three part series.&nbsp; Previous presentation&nbsp;dates and topics are:</p>

<p>4/12, 2-3 pm Original Medicare overview</p>

<p>4/18, 5-6 pm When Do You Need Medicare Part B?</p>

<p>Rowe Insurance Solutions was founded in 2019 by Scott Rowe, who realized that there was a need for insurance agents who were dedicated to helping people make the best decisions for their individual circumstances, without the pressure to choose a particular plan or a particular carrier. He is dedicated to being a trusted advisor, a coach to help you play the insurance game. Rowe Insurance Solutions is a small, locally-based company that is dedicated to finding the best solutions for you, and you can expect to be able to get professional advice whenever your personal circumstances or the insurance environment change. We focus on being a local community resource, to keep our community strong.</p>
LOCATION:Anza - Anza Meeting Room
CLASS:PUBLIC
TRANSP:TRANSPARENT
END:VEVENT
BEGIN:VALARM
TRIGGER:-PT1440M
ACTION:DISPLAY
DESCRIPTION:Event Reminder - Presentation: Covering What Original Medicare Doesn't
END:VALARM
END:VCALENDAR