BEGIN:VCALENDAR
VERSION:2.0
PRODID:SFPL Web Calendar
BEGIN:VEVENT
UID:58556@sfpl.org
DTSTAMP:20230808T210000Z
DTSTART:20230808T210000Z
DTEND:20230808T220000Z
SUMMARY:Activity: Crayon Rubbing and Magna Tiles
DESCRIPTION:<p>Build, learn and play at the library.</p>

<p>For ages 3&ndash;5 with caregiver.</p>
LOCATION:Noe Valley/Sally Brunn - Noe Valley Meeting Room
CLASS:PUBLIC
TRANSP:TRANSPARENT
END:VEVENT
BEGIN:VALARM
TRIGGER:-PT1440M
ACTION:DISPLAY
DESCRIPTION:Event Reminder - Activity: Crayon Rubbing and Magna Tiles
END:VALARM
END:VCALENDAR