BEGIN:VCALENDAR
VERSION:2.0
PRODID:SFPL Web Calendar
BEGIN:VEVENT
UID:58597@sfpl.org
DTSTAMP:20230518T010000Z
DTSTART:20230518T010000Z
DTEND:20230518T020000Z
SUMMARY:Film: Hanzi
DESCRIPTION:<p>A documentary exploring international design, visual culture&nbsp;and identity through the lens of modern Chinese typography. Recommended for all who are interested in learning more about Chinese characters and fonts.</p>

<p>NR, 56 min., 2016. Closed captions (CC) in English.</p>
LOCATION:Richmond/Senator Milton Marks - Richmond Meeting Room
CLASS:PUBLIC
TRANSP:TRANSPARENT
END:VEVENT
BEGIN:VALARM
TRIGGER:-PT1440M
ACTION:DISPLAY
DESCRIPTION:Event Reminder - Film: Hanzi
END:VALARM
END:VCALENDAR