BEGIN:VCALENDAR
VERSION:2.0
PRODID:SFPL Web Calendar
BEGIN:VEVENT
UID:58602@sfpl.org
DTSTAMP:20230525T233000Z
DTSTART:20230525T233000Z
DTEND:20230526T010000Z
SUMMARY:Film: Picture Bride
DESCRIPTION:<p>Drama based on historical events, about a young Japanese woman who agrees to an arranged marriage in turn-of-the-century Hawaii, but finds that it's not the paradise she thought it would be. Stars Y&ucirc;ki Kud&ocirc; and Akira Takayama, and with the great Kurosawa actor Toshiro Mifune. Rotten Tomatoes rating of 82%.</p>

<p>PG-13, 90 min., 1994. Closed captions (CC) in English.</p>
LOCATION:Richmond/Senator Milton Marks - Richmond Meeting Room
CLASS:PUBLIC
TRANSP:TRANSPARENT
END:VEVENT
BEGIN:VALARM
TRIGGER:-PT1440M
ACTION:DISPLAY
DESCRIPTION:Event Reminder - Film: Picture Bride
END:VALARM
END:VCALENDAR