BEGIN:VCALENDAR
VERSION:2.0
PRODID:SFPL Web Calendar
BEGIN:VEVENT
UID:58744@sfpl.org
DTSTAMP:20230524T220000Z
DTSTART:20230524T220000Z
DTEND:20230524T233000Z
SUMMARY:Social: Asian Snack Trials
DESCRIPTION:<p>Sample and learn about popular snacks from Asia. Nibble on familiar flavors and discover new favorites. For ages 18 and younger.</p>
LOCATION:Western Addition - Western Addition Meeting Room
CLASS:PUBLIC
TRANSP:TRANSPARENT
END:VEVENT
BEGIN:VALARM
TRIGGER:-PT1440M
ACTION:DISPLAY
DESCRIPTION:Event Reminder - Social: Asian Snack Trials
END:VALARM
END:VCALENDAR