BEGIN:VCALENDAR
VERSION:2.0
PRODID:SFPL Web Calendar
BEGIN:VEVENT
UID:58898@sfpl.org
DTSTAMP:20230519T223000Z
DTSTART:20230519T223000Z
DTEND:20230520T000000Z
SUMMARY:Activity: Origami Crane 摺紙鶴
DESCRIPTION:<p>Fold&nbsp;colorful paper to form a paper crane. Japanese culture often refers to cranes as the birds of happiness. For ages 8&ndash;18.</p>

<p>將彩紙摺成紙鶴. 日本人常將鶴稱為幸福之鳥. 年齡為八至十八歲青少年.</p>
LOCATION:Chinatown/Him Mark Lai - Chinatown Meeting Room
CLASS:PUBLIC
TRANSP:TRANSPARENT
END:VEVENT
BEGIN:VALARM
TRIGGER:-PT1440M
ACTION:DISPLAY
DESCRIPTION:Event Reminder - Activity: Origami Crane 摺紙鶴
END:VALARM
END:VCALENDAR