BEGIN:VCALENDAR
VERSION:2.0
PRODID:SFPL Web Calendar
BEGIN:VEVENT
UID:58977@sfpl.org
DTSTAMP:20230506T220000Z
DTSTART:20230506T220000Z
DTEND:20230506T230000Z
SUMMARY:Activity: Rock the Bike
DESCRIPTION:<p>Pedal the "Rock the Bike" blender to make fruit smoothies.&nbsp;</p>
LOCATION:Ortega - Ortega Meeting Room
CLASS:PUBLIC
TRANSP:TRANSPARENT
END:VEVENT
BEGIN:VALARM
TRIGGER:-PT1440M
ACTION:DISPLAY
DESCRIPTION:Event Reminder - Activity: Rock the Bike
END:VALARM
END:VCALENDAR