BEGIN:VCALENDAR
VERSION:2.0
PRODID:SFPL Web Calendar
BEGIN:VEVENT
UID:58983@sfpl.org
DTSTAMP:20230513T190000Z
DTSTART:20230513T190000Z
DTEND:20230513T200000Z
SUMMARY:Celebration: Afternoon Tea Party
DESCRIPTION:<p>Bringing the tea room experience to the library! Enjoy afternoon tea&nbsp;with finger foods, sweet delights, and lemonade.</p>

<p>For children and their families. Space Limited. Reservations required: (415) 355-5757 (starting April 24).</p>
LOCATION:Bayview/Linda Brooks-Burton - Bayview Meeting Room
CLASS:PUBLIC
TRANSP:TRANSPARENT
END:VEVENT
BEGIN:VALARM
TRIGGER:-PT1440M
ACTION:DISPLAY
DESCRIPTION:Event Reminder - Celebration: Afternoon Tea Party
END:VALARM
END:VCALENDAR