BEGIN:VCALENDAR
VERSION:2.0
PRODID:SFPL Web Calendar
BEGIN:VEVENT
UID:59014@sfpl.org
DTSTAMP:20230509T223000Z
DTSTART:20230509T223000Z
DTEND:20230509T233000Z
SUMMARY:Activity: Teen Lounge
DESCRIPTION:<p>Relax with snacks and activities at your local library.&nbsp; This month&rsquo;s theme is Game Day &ndash; enjoy friendly competition with board games.&nbsp;</p>
LOCATION:Eureka Valley/Harvey Milk Memorial - Eureka Valley General Floor Area
CLASS:PUBLIC
TRANSP:TRANSPARENT
END:VEVENT
BEGIN:VALARM
TRIGGER:-PT1440M
ACTION:DISPLAY
DESCRIPTION:Event Reminder - Activity: Teen Lounge
END:VALARM
END:VCALENDAR