BEGIN:VCALENDAR
VERSION:2.0
PRODID:SFPL Web Calendar
BEGIN:VEVENT
UID:59033@sfpl.org
DTSTAMP:20230513T200000Z
DTSTART:20230513T200000Z
DTEND:20230514T000000Z
SUMMARY:Celebration: Merced Branch Open House
DESCRIPTION:<p>Celebrate Asian American Native Hawaiian Pacific Islander Heritage Month with Kristy Oshiro Japanese taiko drumming at 1:00 p.m. and Halau Ha'a Kea o Kinohi Hawaiian dancing at 3:00 p.m. Enjoy the tech mobile, origami, scavenger hunts, glitter tattoos&nbsp;and refreshments.&nbsp;Learn about local organizations.</p>
LOCATION:Merced - Merced General Floor Area
CLASS:PUBLIC
TRANSP:TRANSPARENT
END:VEVENT
BEGIN:VALARM
TRIGGER:-PT1440M
ACTION:DISPLAY
DESCRIPTION:Event Reminder - Celebration: Merced Branch Open House
END:VALARM
END:VCALENDAR