BEGIN:VCALENDAR
VERSION:2.0
PRODID:SFPL Web Calendar
BEGIN:VEVENT
UID:59041@sfpl.org
DTSTAMP:20230525T230000Z
DTSTART:20230525T230000Z
DTEND:20230526T000000Z
SUMMARY:Workshop: Watercolor
DESCRIPTION:<p>Create&nbsp;a unique project with watercolor paint. All skills are welcome.&nbsp;For children and their families.&nbsp;</p>

<p>Space Limited. Reservations required: (415) 355-5615.</p>
LOCATION:Ocean View - Ocean View Meeting Room
CLASS:PUBLIC
TRANSP:TRANSPARENT
END:VEVENT
BEGIN:VALARM
TRIGGER:-PT1440M
ACTION:DISPLAY
DESCRIPTION:Event Reminder - Workshop: Watercolor
END:VALARM
END:VCALENDAR