BEGIN:VCALENDAR
VERSION:2.0
PRODID:SFPL Web Calendar
BEGIN:VEVENT
UID:59151@sfpl.org
DTSTAMP:20230513T210000Z
DTSTART:20230513T210000Z
DTEND:20230513T220000Z
SUMMARY:Workshop: Tissue Paper Stained Glass Flower Art
DESCRIPTION:<p>Using&nbsp;tissue paper, create&nbsp;colorful "stained glass" flowers. The flower stencils&nbsp;have historical ties with Asian countries to celebrate AAPI Month.&nbsp;</p>

<p>For ages 5 and older. While supplies last.&nbsp;</p>
LOCATION:Parkside - Parkside Children's Area
CLASS:PUBLIC
TRANSP:TRANSPARENT
END:VEVENT
BEGIN:VALARM
TRIGGER:-PT1440M
ACTION:DISPLAY
DESCRIPTION:Event Reminder - Workshop: Tissue Paper Stained Glass Flower Art
END:VALARM
END:VCALENDAR