BEGIN:VCALENDAR
VERSION:2.0
PRODID:SFPL Web Calendar
BEGIN:VEVENT
UID:59181@sfpl.org
DTSTAMP:20230507T193000Z
DTSTART:20230507T193000Z
DTEND:20230507T213000Z
SUMMARY:Workshop: Skateboard Deck-O-Ration
DESCRIPTION:<p>Design and assemble a complete skateboard in this workshop led by San Francisco Youthworks' interns.&nbsp;&nbsp;Deck, parts (wheels, trucks, bearings) and art supplies&nbsp;will be provided. Feel free to bring your own decorative items.&nbsp;Skateboards are yours to keep. For ages 12&ndash;18.&nbsp;Space limited. Registration required and open starting April 1.</p>
LOCATION:Main Library - Mix: General Floor Area - 2nd Fl
CLASS:PUBLIC
TRANSP:TRANSPARENT
END:VEVENT
BEGIN:VALARM
TRIGGER:-PT1440M
ACTION:DISPLAY
DESCRIPTION:Event Reminder - Workshop: Skateboard Deck-O-Ration
END:VALARM
END:VCALENDAR