BEGIN:VCALENDAR
VERSION:2.0
PRODID:SFPL Web Calendar
BEGIN:VEVENT
UID:59219@sfpl.org
DTSTAMP:20230723T213000Z
DTSTART:20230723T213000Z
DTEND:20230723T223000Z
SUMMARY:Presentation: Classical Tea Art Ceremony and Tasting
DESCRIPTION:<p>The Dasen American Academy presents a classical tea art ceremony followed by a discussion of the historical and cultural significance of the practice. This program includes a small exhibit of traditional teapots, teacups and paper origami of different Chinese Han groups. Participants will have a chance to sample different types of tea provided during the program.&nbsp;</p>

<p>Space limited. Reservations required: (415) 355-5707.</p>
LOCATION:Noe Valley/Sally Brunn - Noe Valley Meeting Room
CLASS:PUBLIC
TRANSP:TRANSPARENT
END:VEVENT
BEGIN:VALARM
TRIGGER:-PT1440M
ACTION:DISPLAY
DESCRIPTION:Event Reminder - Presentation: Classical Tea Art Ceremony and Tasting
END:VALARM
END:VCALENDAR