BEGIN:VCALENDAR
VERSION:2.0
PRODID:SFPL Web Calendar
BEGIN:VEVENT
UID:59228@sfpl.org
DTSTAMP:20230513T180000Z
DTSTART:20230513T180000Z
DTEND:20230513T190000Z
SUMMARY:Performance: Japanese Taiko Drumming
DESCRIPTION:<p>Feel the thunderous sounds of taiko drums as Kristy Oshiro combines Japanese language, culture and history into an exciting experience.</p>

<p>&nbsp;</p>

<p>&nbsp;</p>
LOCATION:Ingleside - Ingleside Patio
CLASS:PUBLIC
TRANSP:TRANSPARENT
END:VEVENT
BEGIN:VALARM
TRIGGER:-PT1440M
ACTION:DISPLAY
DESCRIPTION:Event Reminder - Performance: Japanese Taiko Drumming
END:VALARM
END:VCALENDAR