BEGIN:VCALENDAR
VERSION:2.0
PRODID:SFPL Web Calendar
BEGIN:VEVENT
UID:59261@sfpl.org
DTSTAMP:20230519T010000Z
DTSTART:20230519T010000Z
DTEND:20230519T020000Z
SUMMARY:Social: First Floor Film Club: San Francisco in Chan Is Missing
DESCRIPTION:<p>At the First Floor Film Club, participants are asked to watch&nbsp;<em><a href="https://sfpl.bibliocommons.com/v2/record/S93C1974514">Chan Is Missing</a></em>&nbsp;(NR, 80&nbsp;mins., 1982) and come prepared to discuss the film's representation of San Francisco.</p>

<p>DVDs of the film can be requested at the Information Desk or by clicking the link in the film title above, the film can also be viewed using&nbsp;<a href="https://www.kanopy.com/en/sfpl/video/11413623">Kanopy</a>, SFPL's&nbsp;video streaming service.&nbsp;&nbsp;</p>
LOCATION:Main Library - Mary Louise Stong Conference Room - 1st Fl
CLASS:PUBLIC
TRANSP:TRANSPARENT
END:VEVENT
BEGIN:VALARM
TRIGGER:-PT1440M
ACTION:DISPLAY
DESCRIPTION:Event Reminder - Social: First Floor Film Club: San Francisco in Chan Is Missing
END:VALARM
END:VCALENDAR