BEGIN:VCALENDAR
VERSION:2.0
PRODID:SFPL Web Calendar
BEGIN:VEVENT
UID:59362@sfpl.org
DTSTAMP:20230520T200000Z
DTSTART:20230520T200000Z
DTEND:20230520T230000Z
SUMMARY:Celebration: Open House
DESCRIPTION:<p>Celebrate the West Portal Branch Library's&nbsp;16th Anniversary&nbsp;with an afternoon of festivities for all ages.</p>

<p>Schedule of Activities:</p>

<p>1&ndash;3 p.m. Face Painting with Joanna Helgeson&nbsp;&nbsp;</p>

<p>1&ndash;2 p.m. The Hoover Jazz Band, the Hoover String Quartet, and the Hoover Advanced Chorus&nbsp;</p>

<p>2&ndash;4 p.m. Balloon Twisting with Mr. SHAP&nbsp;</p>

<p>2:30&ndash;3:30 p.m. Hawaiian Music by Keli'i Amantiad&nbsp;</p>

<p>1&ndash;4 p.m. Button making, take home craft kits, and free books</p>
LOCATION:West Portal - West Portal Front Courtyard
CLASS:PUBLIC
TRANSP:TRANSPARENT
END:VEVENT
BEGIN:VALARM
TRIGGER:-PT1440M
ACTION:DISPLAY
DESCRIPTION:Event Reminder - Celebration: Open House
END:VALARM
END:VCALENDAR