BEGIN:VCALENDAR
VERSION:2.0
PRODID:SFPL Web Calendar
BEGIN:VEVENT
UID:59376@sfpl.org
DTSTAMP:20230521T220000Z
DTSTART:20230521T220000Z
DTEND:20230521T233000Z
SUMMARY:Activity: Origami Bookmark
DESCRIPTION:<p>Fold an origami bookmark with colorful paper in Asian-inspired patterns.</p>
LOCATION:Main Library - Mary Louise Stong Conference Room - 1st Fl
CLASS:PUBLIC
TRANSP:TRANSPARENT
END:VEVENT
BEGIN:VALARM
TRIGGER:-PT1440M
ACTION:DISPLAY
DESCRIPTION:Event Reminder - Activity: Origami Bookmark
END:VALARM
END:VCALENDAR