BEGIN:VCALENDAR
VERSION:2.0
PRODID:SFPL Web Calendar
BEGIN:VEVENT
UID:59378@sfpl.org
DTSTAMP:20230513T210000Z
DTSTART:20230513T210000Z
DTEND:20230513T214500Z
SUMMARY:Performance: Free Press Music
DESCRIPTION:<p>Travel around the world musically with a Filipina American led music collective with roots in soul, jazz, blues and improvisation.&nbsp;</p>

<p>Free Press Music is a Filipina American led San Francisco based music collective with roots in soul, jazz, blues and improvisation. Vocalist/songwriter Christie Aida and her group conjure a deep and dynamic repertoire that constellates sounds from around the globe. Singing in Spanish, Tagalog, English, French and Italian, Aida deftly interweaves her wide ranging influences to create a delightful and surprising mix of classics, deep cuts, and original numbers. Those originals often are informed by her sensitivity and advocacy for community organizing, social justice, and housing as a human right. As such, the stories, struggles, and everyday life experiences of Tenderloin and SOMA residents, in particular Filipinos and other communities of color, crop up in FPM&rsquo;s music; for example, the narrative of the Tenderloin Museum&rsquo;s physical home, the Cadillac Hotel, is the subject of a song &ldquo;Reality House.&rdquo; The song celebrates the residents and the history of the Cadillac, including one resident who practices harm reduction by using Narcan regularly to help others in crisis. Original songs such as Reality House, Vespertine and Avalon music/lyrics by both Christie Aida & &nbsp;Dave Mihaly, (Dave will be playing guitar and percussion on 5/13 and 5/27/23).&nbsp; We will be joined by the amazing Emmett Van Leer, pianist on 5/13/23. &nbsp;</p>

<p>Connect:&nbsp;</p>

<p><a href="https://www.thefreepressmusic.com/">Free Press Music&nbsp;- Website</a>&nbsp;</p>
LOCATION:Excelsior - Excelsior Meeting Room
CLASS:PUBLIC
TRANSP:TRANSPARENT
END:VEVENT
BEGIN:VALARM
TRIGGER:-PT1440M
ACTION:DISPLAY
DESCRIPTION:Event Reminder - Performance: Free Press Music
END:VALARM
END:VCALENDAR