BEGIN:VCALENDAR
VERSION:2.0
PRODID:SFPL Web Calendar
BEGIN:VEVENT
UID:59633@sfpl.org
DTSTAMP:20230503T220000Z
DTSTART:20230503T220000Z
DTEND:20230503T233000Z
SUMMARY:Workshop: Origami Book with Esther Kwan
DESCRIPTION:<p>Learn how to use a Japanese folding method with Esther Kwan and custom create an intricate pop-up book with simple folds.&nbsp;For ages 8&nbsp;and older. Space limited. Reservations required: (415) 355-5717.&nbsp;</p>

<p>&nbsp;</p>
LOCATION:Anza - Anza Meeting Room
CLASS:PUBLIC
TRANSP:TRANSPARENT
END:VEVENT
BEGIN:VALARM
TRIGGER:-PT1440M
ACTION:DISPLAY
DESCRIPTION:Event Reminder - Workshop: Origami Book with Esther Kwan
END:VALARM
END:VCALENDAR