BEGIN:VCALENDAR
VERSION:2.0
PRODID:SFPL Web Calendar
BEGIN:VEVENT
UID:59651@sfpl.org
DTSTAMP:20230512T210000Z
DTSTART:20230512T210000Z
DTEND:20230512T224500Z
SUMMARY:Film: Searching
DESCRIPTION:<p>Set on computer screens and smartphones, <em>Searching </em>is a thriller about a father looking for his missing teenage daughter.&nbsp;Directed by Aneesh Chaganty; starring John Cho and Michelle La.&nbsp;<br />
PG-13, 102 mins., 2018. Closed captions (CC) in English.</p>
LOCATION:Noe Valley/Sally Brunn - Noe Valley Meeting Room
CLASS:PUBLIC
TRANSP:TRANSPARENT
END:VEVENT
BEGIN:VALARM
TRIGGER:-PT1440M
ACTION:DISPLAY
DESCRIPTION:Event Reminder - Film: Searching
END:VALARM
END:VCALENDAR