BEGIN:VCALENDAR
VERSION:2.0
PRODID:SFPL Web Calendar
BEGIN:VEVENT
UID:59658@sfpl.org
DTSTAMP:20230424T233000Z
DTSTART:20230424T233000Z
DTEND:20230425T003000Z
SUMMARY:Activity: Tween Graphic Novel Club
DESCRIPTION:<p>Talk about recent graphic novels with fellow comics fans. Our April title is <em>Squire </em>by&nbsp;Sara Alfageeh and Nadia Shammas. We'll&nbsp;have copies on hold at Glen Park, or find the ebook on&nbsp;<a href="http://sfpl.bibliocommons.com/v2/record/S93C5210486">Axis 360</a>&nbsp;or <a href="http://sfpl.bibliocommons.com/v2/record/S93C5202757">Libby</a>. Come for&nbsp;low-key discussion even if you haven't finished the book. Snacks provided. For ages 11-14.</p>
LOCATION:Glen Park - Glen Park Meeting Room
CLASS:PUBLIC
TRANSP:TRANSPARENT
END:VEVENT
BEGIN:VALARM
TRIGGER:-PT1440M
ACTION:DISPLAY
DESCRIPTION:Event Reminder - Activity: Tween Graphic Novel Club
END:VALARM
END:VCALENDAR