BEGIN:VCALENDAR
VERSION:2.0
PRODID:SFPL Web Calendar
BEGIN:VEVENT
UID:59660@sfpl.org
DTSTAMP:20230512T223000Z
DTSTART:20230512T223000Z
DTEND:20230512T233000Z
SUMMARY:Activity: DIY Card Making
DESCRIPTION:<p>Take the time to say, "I love you," to the person who cares for you.&nbsp;Make a personalized card for your favorite mother and caregiver.&nbsp;For children and their families.</p>
LOCATION:Merced - Merced Patio
CLASS:PUBLIC
TRANSP:TRANSPARENT
END:VEVENT
BEGIN:VALARM
TRIGGER:-PT1440M
ACTION:DISPLAY
DESCRIPTION:Event Reminder - Activity: DIY Card Making
END:VALARM
END:VCALENDAR