BEGIN:VCALENDAR
VERSION:2.0
PRODID:SFPL Web Calendar
BEGIN:VEVENT
UID:59661@sfpl.org
DTSTAMP:20230510T230000Z
DTSTART:20230510T230000Z
DTEND:20230511T000000Z
SUMMARY:Activity: Tissue Paper Collage Vases
DESCRIPTION:<p>Create a colorful tissue paper collage vase.&nbsp; Fill with flowers as a joyful gift for Mother's Day, for a friend or for yourself. For ages 5 and older.</p>
LOCATION:Bernal Heights - Bernal Heights Meeting Room
CLASS:PUBLIC
TRANSP:TRANSPARENT
END:VEVENT
BEGIN:VALARM
TRIGGER:-PT1440M
ACTION:DISPLAY
DESCRIPTION:Event Reminder - Activity: Tissue Paper Collage Vases
END:VALARM
END:VCALENDAR