BEGIN:VCALENDAR
VERSION:2.0
PRODID:SFPL Web Calendar
BEGIN:VEVENT
UID:59707@sfpl.org
DTSTAMP:20230427T223000Z
DTSTART:20230427T223000Z
DTEND:20230427T233000Z
SUMMARY:Workshop: CD Mandala Suncatcher
DESCRIPTION:<p>Upcycle old cds &nbsp;into beautiful mandala cd suncatchers. For ages 5&nbsp;older with their caregiver.&nbsp;</p>
LOCATION:Bernal Heights - Bernal Heights Meeting Room
CLASS:PUBLIC
TRANSP:TRANSPARENT
END:VEVENT
BEGIN:VALARM
TRIGGER:-PT1440M
ACTION:DISPLAY
DESCRIPTION:Event Reminder - Workshop: CD Mandala Suncatcher
END:VALARM
END:VCALENDAR