BEGIN:VCALENDAR
VERSION:2.0
PRODID:SFPL Web Calendar
BEGIN:VEVENT
UID:59743@sfpl.org
DTSTAMP:20230525T223000Z
DTSTART:20230525T223000Z
DTEND:20230525T233000Z
SUMMARY:Workshop: Slime
DESCRIPTION:<p>Get gooey and sticky by creating your own stretchy polymer: SLIME!&nbsp;</p>
LOCATION:Ingleside - Ingleside Meeting Room
CLASS:PUBLIC
TRANSP:TRANSPARENT
END:VEVENT
BEGIN:VALARM
TRIGGER:-PT1440M
ACTION:DISPLAY
DESCRIPTION:Event Reminder - Workshop: Slime
END:VALARM
END:VCALENDAR