BEGIN:VCALENDAR
VERSION:2.0
PRODID:SFPL Web Calendar
BEGIN:VEVENT
UID:59745@sfpl.org
DTSTAMP:20230723T210000Z
DTSTART:20230723T210000Z
DTEND:20230723T220000Z
SUMMARY:Workshop: Carnivorous Plants
DESCRIPTION:<p>&nbsp;</p>

<p>&nbsp;Stephen Davis from the&nbsp;<a href="https://www.bacps.org/">Bay Area Carnivorous Plant Society</a>&nbsp;will share&nbsp;the ins and outs of growing various species here in the Bay Area. You don't need to live in a tropical jungle or swamp to grow these fantastic species&mdash;San Francisco Bay Area is perfect for growing most carnivorous plants. This program is intended for children audience.</p>

<p>All participants will receive a free carnivorous plant while supplies last. Thank you to&nbsp;<a href="https://www.google.com/maps/uv?pb=!1s0x808f7482e3257f5f%3A0x1b6038b2c2cb7424!3m1!7e115!4shttps%3A%2F%2Flh5.googleusercontent.com%2Fp%2FAF1QipNy_9ph65TsKvryx4hgcKUBIiWbZvoy6t5ZL9YR%3Dw260-h175-n-k-no!5srocket%20farms%20wholesale%20center%20-%20Google%20Search!15sCgIgAQ&imagekey=!1e10!2sAF1QipNy_9ph65TsKvryx4hgcKUBIiWbZvoy6t5ZL9YR&hl=en&sa=X&ved=2ahUKEwipt_6N7_L8AhXyGTQIHVHDCmwQ7ZgBKAB6BAgKEAI">Rocket Farms</a>&nbsp;for the generous donation. Please call the Mission Bay branch to register <a href="https://www.google.com/search?q=mission+bay+branch&rlz=1C1FKPE_enUS1063US1063&oq=mission+bay+branch&aqs=chrome..69i57j35i39j46i175i199i512j0i390i650l3.145772913j0j15&sourceid=chrome&ie=UTF-8#">(415) 355-2838</a>, space is limited.</p>
LOCATION:Mission Bay - Mission Bay Program Room
CLASS:PUBLIC
TRANSP:TRANSPARENT
END:VEVENT
BEGIN:VALARM
TRIGGER:-PT1440M
ACTION:DISPLAY
DESCRIPTION:Event Reminder - Workshop: Carnivorous Plants
END:VALARM
END:VCALENDAR