BEGIN:VCALENDAR
VERSION:2.0
PRODID:SFPL Web Calendar
BEGIN:VEVENT
UID:59773@sfpl.org
DTSTAMP:20230520T203000Z
DTSTART:20230520T203000Z
DTEND:20230520T220000Z
SUMMARY:Author: Kiều Chinh, Hanoi to Hollywood: A Remarkable Journey
DESCRIPTION:<p>Celebrated author and actress <a href="https://sfpl.bibliocommons.com/v2/search?searchType=author&query=Ki%E1%BB%81u%20Chinh%2C"><u>Kiều Chinh</u></a> discuss her life, journey and memoir, <em>Kieu Chinh An Artist in Exile. </em>Moderated by Dr. Isabelle Pelaud.</p>

<p>&nbsp;</p>

<p>Kiều Chinh is&nbsp;one of the most, if not <em>the</em> most, celebrated and beloved Vietnamese American movie actresses. She survived three wars: World War II, the Indochina war [1945-1954] and the civil war between North and South Vietnam [1954-1975]. After 1975, she made her home in the United States, and played a multiple of roles in numerous TV shows and Hollywood films, most notably, the TV show <em>M.A.S.H.</em>, the movie <em>The Joy Luck Club&nbsp;</em>and&nbsp;many others. The book spans more than seven decades, from her childhood in Hanoi until the recent times in the US.It vividly depicts her experiences not only as a movie actress, but also as a living witness and part of so many tragic situations, in war and peace, in tragedy and happiness, in bitter failures and glorious achievements. In the end, it is the human spirit&nbsp;inside this extraordinary woman&nbsp;that prevails. A must-read book for anyone&nbsp;who is interested in the history of Vietnam and especially Vietnamese movie history.</p>

<p>&nbsp;</p>

<p>Connect:</p>

<p>&nbsp;</p>

<p><a href="https://www.instagram.com/thekieuchinh/"><u>Kiều Chinh - Instagram</u></a>&nbsp;</p>

<p><br />
<a href="https://dvan.org/"><u>Diasporic Vietnamese Artists Network - Website</u></a> | <a href="https://www.instagram.com/weare_dvan/"><u>Diasporic Vietnamese Artists Network&nbsp; - Instagram</u></a> | <a href="https://twitter.com/dia_CRITICS"><u>Diasporic Vietnamese Artists Network - Twitter</u></a></p>
LOCATION:Main Library - Koret Auditorium
CLASS:PUBLIC
TRANSP:TRANSPARENT
END:VEVENT
BEGIN:VALARM
TRIGGER:-PT1440M
ACTION:DISPLAY
DESCRIPTION:Event Reminder - Author: Kiều Chinh, Hanoi to Hollywood: A Remarkable Journey
END:VALARM
END:VCALENDAR