BEGIN:VCALENDAR
VERSION:2.0
PRODID:SFPL Web Calendar
BEGIN:VEVENT
UID:59990@sfpl.org
DTSTAMP:20230426T010000Z
DTSTART:20230426T010000Z
DTEND:20230426T023000Z
SUMMARY:Film: Jimmy in Saigon
DESCRIPTION:<p>Join Frameline for a special free encore screening of&nbsp;<em>Jimmy in Saigon!</em> Featuring a Q&A with director Peter McDowell and executive producer Corey Tong, moderated by Nguyen Pham.</p>

<p>When his brother Jimmy mysteriously died in Vietnam in 1972, gay filmmaker Peter McDowell was just a kid, growing up within his family&rsquo;s &ldquo;veil of silence.&rdquo; As an adult, armed with a video camera, Peter embarks on a quest to uncover the possibly queer brother he never knew. Plotted like a terrific detective story, <em>Jimmy in Saigon</em> follows Peter&rsquo;s search for the truth about the strikingly enigmatic Jimmy&mdash;a rebellious kid drafted into the war, who stunned his family by returning to Saigon after his tour of duty to enjoy &ldquo;hedonistic pleasures.&rdquo; Jimmy&rsquo;s letters home spoke of a Vietnamese girlfriend, but Peter suspects that something&mdash;or someone&mdash;else had captivated Jimmy.</p>

<p>This intimate international odyssey into the twisty alleys of old Saigon brings forth revelations that keep unfolding in unexpected and touching ways. Executive-produced by sex advice columnist Dan Savage, <em>Jimmy in Saigon</em> is a timely testament to the ravages of war and the healing of old wounds.</p>

<p>Frameline thanks the James C. Hormel LGBTQIA Center of San Francisco Public Library for their support of this encore screening.</p>

<p>Not rated, 89 min, 2022. In English, French, and Vietnamese with English subtitles.</p>

<p><strong>This film starts at exactly the advertised time. Limited seating. First come, first served.</strong></p>
LOCATION:Main Library - Koret Auditorium
CLASS:PUBLIC
TRANSP:TRANSPARENT
END:VEVENT
BEGIN:VALARM
TRIGGER:-PT1440M
ACTION:DISPLAY
DESCRIPTION:Event Reminder - Film: Jimmy in Saigon
END:VALARM
END:VCALENDAR