BEGIN:VCALENDAR
VERSION:2.0
PRODID:SFPL Web Calendar
BEGIN:VEVENT
UID:59992@sfpl.org
DTSTAMP:20230513T213000Z
DTSTART:20230513T213000Z
DTEND:20230513T233000Z
SUMMARY:Activity: Play-Doh Afternoon
DESCRIPTION:<p>Build and then squish your Play-Doh creations. For children and their families.</p>
LOCATION:Marina - Marina Children's Area
CLASS:PUBLIC
TRANSP:TRANSPARENT
END:VEVENT
BEGIN:VALARM
TRIGGER:-PT1440M
ACTION:DISPLAY
DESCRIPTION:Event Reminder - Activity: Play-Doh Afternoon
END:VALARM
END:VCALENDAR