BEGIN:VCALENDAR
VERSION:2.0
PRODID:SFPL Web Calendar
BEGIN:VEVENT
UID:60229@sfpl.org
DTSTAMP:20230509T000000Z
DTSTART:20230509T000000Z
DTEND:20230509T010000Z
SUMMARY:Tutorial: Rethinking Tech Use at Home
DESCRIPTION:<p><strong>This is a hybrid event. Registration is required for Zoom attendance. In-person attendance does not require registration; space available first come, first served.</strong></p>

<p>Get tips on&nbsp;how to use technology to learn, connect&nbsp;and be safe. Come with any questions you need support with and leave with a tech plan for you and your family. This will be an informal discussion.&nbsp;</p>

<p>Apoyo para utilizar la tecnolog&iacute;a de forma segura, para aprender y conectarse. Entre con preguntas y salga con un plan tecnol&oacute;gico para usted y su familia</p>

<p>This event is part of <a href="https://sfpl.org/locations/main-library/bridge-main-5th-floor/welcome-tech-week">SF Tech Week</a>.</p>

<p>Connect: Common Sense Media <a href="https://www.commonsensemedia.org/">website</a> | <a href="https://www.facebook.com/commonsensemedia">Facebook</a> | <a href="https://twitter.com/commonsense">Twitter</a>&nbsp;</p>
LOCATION:Main Library - Learning Studio - 5th Fl
CLASS:PUBLIC
TRANSP:TRANSPARENT
END:VEVENT
BEGIN:VALARM
TRIGGER:-PT1440M
ACTION:DISPLAY
DESCRIPTION:Event Reminder - Tutorial: Rethinking Tech Use at Home
END:VALARM
END:VCALENDAR