BEGIN:VCALENDAR
VERSION:2.0
PRODID:SFPL Web Calendar
BEGIN:VEVENT
UID:60232@sfpl.org
DTSTAMP:20230510T003000Z
DTSTART:20230510T003000Z
DTEND:20230510T023000Z
SUMMARY:Film: Agent Carter, Episodes One and Two
DESCRIPTION:<p>Peggy Carter&nbsp;does undercover work for Howard Stark while also holding down a routine office job for the Strategic Scientific Reserve. Space limited.</p>

<p>TV-PG, 120 min., 2015. Closed captions (CC) in English.</p>
LOCATION:Potrero - Potrero Meeting Room
CLASS:PUBLIC
TRANSP:TRANSPARENT
END:VEVENT
BEGIN:VALARM
TRIGGER:-PT1440M
ACTION:DISPLAY
DESCRIPTION:Event Reminder - Film: Agent Carter, Episodes One and Two
END:VALARM
END:VCALENDAR