BEGIN:VCALENDAR
VERSION:2.0
PRODID:SFPL Web Calendar
BEGIN:VEVENT
UID:60360@sfpl.org
DTSTAMP:20230509T180000Z
DTSTART:20230509T180000Z
DTEND:20230509T190000Z
SUMMARY:Tutorial: Internet Basics
DESCRIPTION:<p>Get hands&ndash;on practice navigating and searching the Internet. Attendees will also learn about <em>digitalliteracy.att.com</em>, a free resource to help you build skills and confidence using technology.</p>

<p>Connect: AT&T Digital Literacy <a href="https://digitalliteracy.att.com">website</a></p>
LOCATION:Main Library - Computer Training Center - 5th Fl
CLASS:PUBLIC
TRANSP:TRANSPARENT
END:VEVENT
BEGIN:VALARM
TRIGGER:-PT1440M
ACTION:DISPLAY
DESCRIPTION:Event Reminder - Tutorial: Internet Basics
END:VALARM
END:VCALENDAR