BEGIN:VCALENDAR
VERSION:2.0
PRODID:SFPL Web Calendar
BEGIN:VEVENT
UID:60363@sfpl.org
DTSTAMP:20230509T210000Z
DTSTART:20230509T210000Z
DTEND:20230509T230000Z
SUMMARY:Tutorial: Computer Basics Part 2
DESCRIPTION:<p>Get started on the computer and stay connected to family and friends. Learn how to explore the internet, use email and more in our easy, step-by-step class.</p>

<p>This program is part of&nbsp;<a href="https://sfpl.org/locations/main-library/bridge-main-5th-floor/welcome-tech-week">SF Tech Week</a>.&nbsp;</p>

<p>Connect: Goodwill of the SF Bay&nbsp;<a href="https://sfgoodwill.org/">website</a>&nbsp;|&nbsp;<a href="https://twitter.com/sfbaygoodwill">Twitter</a>&nbsp;|&nbsp;<a href="https://www.instagram.com/sfbaygoodwill/">Instagram</a></p>
LOCATION:Main Library
CLASS:PUBLIC
TRANSP:TRANSPARENT
END:VEVENT
BEGIN:VALARM
TRIGGER:-PT1440M
ACTION:DISPLAY
DESCRIPTION:Event Reminder - Tutorial: Computer Basics Part 2
END:VALARM
END:VCALENDAR