BEGIN:VCALENDAR
VERSION:2.0
PRODID:SFPL Web Calendar
BEGIN:VEVENT
UID:60365@sfpl.org
DTSTAMP:20230509T220000Z
DTSTART:20230509T220000Z
DTEND:20230509T230000Z
SUMMARY:Presentation: Google Maps and Citymapper
DESCRIPTION:<p>Google Maps and the Citymapper app can help pick a route and mode of transportation. Citymapper tracks bus locations.&nbsp;Download the app before class if you can.&nbsp;Get to your destination!</p>

<p>This event is part of <a href="https://sfpl.org/locations/main-library/bridge-main-5th-floor/welcome-tech-week">SF Tech Week</a>.&nbsp;</p>

<p>Connect: Community Living Campaign&nbsp;<a href="https://communitytechnetwork.org/">website</a>&nbsp;|&nbsp;<a href="https://twitter.com/commtechnetwork">Twitter</a>&nbsp;|&nbsp;<a href="https://www.facebook.com/CommunityTechNetwork/">Facebook</a></p>

<p>&nbsp;</p>
LOCATION:Virtual Library
CLASS:PUBLIC
TRANSP:TRANSPARENT
END:VEVENT
BEGIN:VALARM
TRIGGER:-PT1440M
ACTION:DISPLAY
DESCRIPTION:Event Reminder - Presentation: Google Maps and Citymapper
END:VALARM
END:VCALENDAR