BEGIN:VCALENDAR
VERSION:2.0
PRODID:SFPL Web Calendar
BEGIN:VEVENT
UID:60383@sfpl.org
DTSTAMP:20230510T170000Z
DTSTART:20230510T170000Z
DTEND:20230510T180000Z
SUMMARY:Presentation: Free Lifeline Phones
DESCRIPTION:<p>Adults who need a cellular device and qualify as 'low&ndash;income' can receive a free smartphone. Learn how the program works and how to sign up.</p>

<p>This event is part of <a href="https://sfpl.org/locations/main-library/bridge-main-5th-floor/welcome-tech-week">SF Tech Week</a>.&nbsp;</p>

<p>Connect: Curry Senior Center <a href="https://curryseniorcenter.org/">website</a>&nbsp;| <a href="https://www.facebook.com/CurrySrCenter/">Facebook</a> | <a href="https://www.instagram.com/currysrcenter/">Instagram</a></p>
LOCATION:Main Library - Computer Training Center - 5th Fl
CLASS:PUBLIC
TRANSP:TRANSPARENT
END:VEVENT
BEGIN:VALARM
TRIGGER:-PT1440M
ACTION:DISPLAY
DESCRIPTION:Event Reminder - Presentation: Free Lifeline Phones
END:VALARM
END:VCALENDAR