BEGIN:VCALENDAR
VERSION:2.0
PRODID:SFPL Web Calendar
BEGIN:VEVENT
UID:60386@sfpl.org
DTSTAMP:20230510T180000Z
DTSTART:20230510T180000Z
DTEND:20230510T190000Z
SUMMARY:Presentation: Using the Accessibility Features in Microsoft Office
DESCRIPTION:<p>Learn about the accessibility features in Word, PowerPoint and Excel, including tools for visually impaired and neurodiverse users.</p>

<p>This event is part of <a href="https://sfpl.org/locations/main-library/bridge-main-5th-floor/welcome-tech-week">SF Tech Week</a>.&nbsp;</p>
LOCATION:Main Library - Computer Training Center - 5th Fl
CLASS:PUBLIC
TRANSP:TRANSPARENT
END:VEVENT
BEGIN:VALARM
TRIGGER:-PT1440M
ACTION:DISPLAY
DESCRIPTION:Event Reminder - Presentation: Using the Accessibility Features in Microsoft Office
END:VALARM
END:VCALENDAR