BEGIN:VCALENDAR
VERSION:2.0
PRODID:SFPL Web Calendar
BEGIN:VEVENT
UID:60389@sfpl.org
DTSTAMP:20230510T210000Z
DTSTART:20230510T210000Z
DTEND:20230510T223000Z
SUMMARY:Tutorial: Beginner's Computer Clinic
DESCRIPTION:<p>Practice common computer dance steps like clicking, highlighting, copying, pasting, uploading and downloading.</p>

<p>This event is part of <a href="https://sfpl.org/locations/main-library/bridge-main-5th-floor/welcome-tech-week">SF Tech Week</a>.</p>
LOCATION:Main Library - Computer Training Center - 5th Fl
CLASS:PUBLIC
TRANSP:TRANSPARENT
END:VEVENT
BEGIN:VALARM
TRIGGER:-PT1440M
ACTION:DISPLAY
DESCRIPTION:Event Reminder - Tutorial: Beginner's Computer Clinic
END:VALARM
END:VCALENDAR