BEGIN:VCALENDAR
VERSION:2.0
PRODID:SFPL Web Calendar
BEGIN:VEVENT
UID:60476@sfpl.org
DTSTAMP:20230511T170000Z
DTSTART:20230511T170000Z
DTEND:20230511T180000Z
SUMMARY:Presentation: 你的安卓設備 (粵語) / Your Android Device (Cantonese)
DESCRIPTION:<p>這個課程讓學員更了解安桌系統, 讓學員懂得利用谷歌賬戶在安卓手機/平板電腦使用不同應用程序。</p>

<p>How your Google Account works with Android and some popular apps. Instruction in Cantonese.</p>

<p>報名Zoom綫上課程</p>

<p>This event is part of&nbsp;<a href="https://sfpl.org/locations/main-library/bridge-main-5th-floor/welcome-tech-week">SF Tech Week</a>.&nbsp;</p>

<p>Connect: Community Living Campaign&nbsp;<a href="https://communitytechnetwork.org/">website</a>&nbsp;|&nbsp;<a href="https://twitter.com/commtechnetwork">Twitter</a>&nbsp;|&nbsp;<a href="https://www.facebook.com/CommunityTechNetwork/">Facebook</a></p>

<p>&nbsp;</p>
LOCATION:Virtual Library
CLASS:PUBLIC
TRANSP:TRANSPARENT
END:VEVENT
BEGIN:VALARM
TRIGGER:-PT1440M
ACTION:DISPLAY
DESCRIPTION:Event Reminder - Presentation: 你的安卓設備 (粵語) / Your Android Device (Cantonese)
END:VALARM
END:VCALENDAR