BEGIN:VCALENDAR
VERSION:2.0
PRODID:SFPL Web Calendar
BEGIN:VEVENT
UID:60477@sfpl.org
DTSTAMP:20230511T183000Z
DTSTART:20230511T183000Z
DTEND:20230511T193000Z
SUMMARY:Presentation: Taking Pictures and Videos with Your Smartphone or Tablet
DESCRIPTION:<p>Learn how you can use your smartphone or tablet to take pictures and videos, plus all the things you can do with them afterwards.</p>

<p>This event is part of&nbsp;<a href="https://sfpl.org/locations/main-library/bridge-main-5th-floor/welcome-tech-week">SF Tech Week</a>.&nbsp;</p>

<p>Connect: Community Living Campaign&nbsp;<a href="https://sfcommunityliving.org/">website</a>&nbsp;|&nbsp;<a href="https://www.facebook.com/CommunityLivingCampaign/">Facebook</a>&nbsp;|&nbsp;<a href="https://twitter.com/CLCtweets">Twitter</a></p>
LOCATION:Virtual Library
CLASS:PUBLIC
TRANSP:TRANSPARENT
END:VEVENT
BEGIN:VALARM
TRIGGER:-PT1440M
ACTION:DISPLAY
DESCRIPTION:Event Reminder - Presentation: Taking Pictures and Videos with Your Smartphone or Tablet
END:VALARM
END:VCALENDAR