BEGIN:VCALENDAR
VERSION:2.0
PRODID:SFPL Web Calendar
BEGIN:VEVENT
UID:60479@sfpl.org
DTSTAMP:20230511T233000Z
DTSTART:20230511T233000Z
DTEND:20230512T010000Z
SUMMARY:Tutorial: Social Media 101 — Problems, Opportunities and Everything in Between
DESCRIPTION:<p><strong>This is a hybrid event. Registration is required for Zoom attendance. In-person attendance does not require registration; space&nbsp;available first come, first served.</strong></p>

<p>What is the best way to keep kids on social media safe, engaged and aware of the addictive platform features? Come to tech office hours with Common Sense Media; bring any questions you have about social media use and leave with a plan. This will be an informal discussion.&nbsp;</p>

<p>Apoyo para utilizar la tecnolog&iacute;a de forma segura, para aprender y conectarse. Entre con preguntas y salga con un plan tecnol&oacute;gico para usted y su familia.</p>

<p>This event is part of&nbsp;<a href="https://sfpl.org/locations/main-library/bridge-main-5th-floor/welcome-tech-week">SF Tech Week</a>.</p>

<p>Connect: Common Sense Media&nbsp;<a href="https://www.commonsensemedia.org/">website</a>&nbsp;|&nbsp;<a href="https://www.facebook.com/commonsensemedia">Facebook</a>&nbsp;|&nbsp;<a href="https://twitter.com/commonsense">Twitter</a>&nbsp;</p>
LOCATION:Main Library - Learning Studio - 5th Fl
CLASS:PUBLIC
TRANSP:TRANSPARENT
END:VEVENT
BEGIN:VALARM
TRIGGER:-PT1440M
ACTION:DISPLAY
DESCRIPTION:Event Reminder - Tutorial: Social Media 101 — Problems, Opportunities and Everything in Between
END:VALARM
END:VCALENDAR