BEGIN:VCALENDAR
VERSION:2.0
PRODID:SFPL Web Calendar
BEGIN:VEVENT
UID:60530@sfpl.org
DTSTAMP:20230726T223000Z
DTSTART:20230726T223000Z
DTEND:20230727T010000Z
SUMMARY:Film: Elvis
DESCRIPTION:<p>A biographical drama film chronicles the life of the legendary rock and roll star, Elvis Presley.</p>

<p>PG-13, 159 min., 2022.&nbsp;Closed captions (CC) in English.</p>
LOCATION:Ocean View - Ocean View Meeting Room
CLASS:PUBLIC
TRANSP:TRANSPARENT
END:VEVENT
BEGIN:VALARM
TRIGGER:-PT1440M
ACTION:DISPLAY
DESCRIPTION:Event Reminder - Film: Elvis
END:VALARM
END:VCALENDAR