BEGIN:VCALENDAR
VERSION:2.0
PRODID:SFPL Web Calendar
BEGIN:VEVENT
UID:60565@sfpl.org
DTSTAMP:20230727T223000Z
DTSTART:20230727T223000Z
DTEND:20230728T003000Z
SUMMARY:Workshop: Summer Postcards Craft
DESCRIPTION:<p>Design and create your own postcards to send to friends and family.</p>

<p>For children and their families.</p>
LOCATION:Glen Park - Glen Park Meeting Room
CLASS:PUBLIC
TRANSP:TRANSPARENT
END:VEVENT
BEGIN:VALARM
TRIGGER:-PT1440M
ACTION:DISPLAY
DESCRIPTION:Event Reminder - Workshop: Summer Postcards Craft
END:VALARM
END:VCALENDAR