BEGIN:VCALENDAR
VERSION:2.0
PRODID:SFPL Web Calendar
BEGIN:VEVENT
UID:60797@sfpl.org
DTSTAMP:20230512T180000Z
DTSTART:20230512T180000Z
DTEND:20230512T193000Z
SUMMARY:Presentation: Start Your Career with TechSF
DESCRIPTION:<p>Pivot to a career in tech with free training for jobs in the technology sector. Learn about the nonprofit and government agencies who provide free training in coding, IT support, video media arts, digital marketing, tech sales&nbsp;and more.</p>

<p>This event is part of <a href="http://sfpl.org/techweek">SF Tech Week</a>.&nbsp;</p>

<p>Connect:</p>

<p><a href="https://www.jvs.org/">JVS - website&nbsp;</a>&nbsp;|&nbsp;<a href="https://sf.gov/apply-train-career-technology">TechSF - website</a>&nbsp;</p>
LOCATION:Virtual Library
CLASS:PUBLIC
TRANSP:TRANSPARENT
END:VEVENT
BEGIN:VALARM
TRIGGER:-PT1440M
ACTION:DISPLAY
DESCRIPTION:Event Reminder - Presentation: Start Your Career with TechSF
END:VALARM
END:VCALENDAR