BEGIN:VCALENDAR
VERSION:2.0
PRODID:SFPL Web Calendar
BEGIN:VEVENT
UID:60798@sfpl.org
DTSTAMP:20230512T200000Z
DTSTART:20230512T200000Z
DTEND:20230512T230000Z
SUMMARY:Tutorial: Tech Help Drop–In /技術支 (English, Chinese, Vietnamese, Russian)
DESCRIPTION:<p>Bring your device for free one&ndash;on&ndash;one tech support, including troubleshooting software and application issues. Help in English, Chinese (Cantonese and Mandarin),Vietnamese, and Russian.&nbsp;Register at (415) 781-9919. Attendees at this event will have a chance to win a refurbished Chromebook courtesy of Tech Exchange.&nbsp;</p>

<p>免費一對一智能設備技術問題解答，包括軟件和應用程式問題，請携帶你自己的設備(手機，平板，手提電腦)。我們有老師用國，粵，越，俄，解答你的問題。請致電報名（415）781-9919.&nbsp;參加者將有機會贏取翻新版本的手提電腦Chrome Book(該獎品由Tech Exchange贊助)</p>

<p>Hội thảo mini giải đ&aacute;p c&aacute;c thắc mắc v&agrave; vấn đề thường gặp tr&ecirc;n điện thoại th&ocirc;ng minh v&agrave; m&aacute;y t&iacute;nh bảng của bạn.&nbsp;Xin gọi (415) 781-9919 v&agrave; để lại lời nhắn bằng tiếng Việt để đặt hẹn.&nbsp;Cơ&nbsp;hội tr&uacute;ng&nbsp;giải m&aacute;y&nbsp;t&iacute;nh x&aacute;ch tay laptop&nbsp;t&agrave;i trợ&nbsp;bởi Tech Exchange: c&aacute;c bạn sẽ c&oacute; cơ hội được tham gia bốc&nbsp;thăm tr&uacute;ng thưởng v&agrave;&nbsp;nhận&nbsp;một&nbsp;m&aacute;y t&iacute;nh x&aacute;ch tay Chromebook chạy hệ điều h&agrave;nh CloudReady.</p>

<p>Принесите свое устройство (computer, IPad, телефон) для получения бесплатной технической поддержки в формате один на один с техническим специалистом, включая устранение проблем с программным обеспечением и приложениями. Помощь на русском языке доступна.&nbsp;Зарегистрируйтесь по номеру (415) 781-9919. Доступен голосовой почтовый ящик.&nbsp;Розыгрыш устройства, спонсируемый Tech Exchange: посетители получат шанс выиграть Chromebook с установленной операционной системой CloudReady.</p>

<p>&nbsp;</p>

<p>&nbsp;</p>

<p>Connect: Self-Help for the Elderly <a href="https://www.selfhelpelderly.org/">website</a>.</p>

<p>&nbsp;</p>

<p>&nbsp;</p>

<p>&nbsp;</p>

<p>&nbsp;</p>
LOCATION:Main Library
CLASS:PUBLIC
TRANSP:TRANSPARENT
END:VEVENT
BEGIN:VALARM
TRIGGER:-PT1440M
ACTION:DISPLAY
DESCRIPTION:Event Reminder - Tutorial: Tech Help Drop–In /技術支 (English, Chinese, Vietnamese, Russian)
END:VALARM
END:VCALENDAR