BEGIN:VCALENDAR
VERSION:2.0
PRODID:SFPL Web Calendar
BEGIN:VEVENT
UID:60803@sfpl.org
DTSTAMP:20230512T190000Z
DTSTART:20230512T190000Z
DTEND:20230512T200000Z
SUMMARY:Presentation: Tech Tools Can Make Your Life More Accessible
DESCRIPTION:<p>Learn unique ways to use smartphones and other gadgets to accomplish daily tasks. Having tools to make life more accessible doesn't have to be stigmatizing.</p>

<p>This event is part of <a href="http://sfpl.org/techweek">SF Tech Week</a>.&nbsp;</p>

<p>Connect: Community Living Campaign <a href="https://sfcommunityliving.org/">website&nbsp;</a></p>
LOCATION:Virtual Library
CLASS:PUBLIC
TRANSP:TRANSPARENT
END:VEVENT
BEGIN:VALARM
TRIGGER:-PT1440M
ACTION:DISPLAY
DESCRIPTION:Event Reminder - Presentation: Tech Tools Can Make Your Life More Accessible
END:VALARM
END:VCALENDAR