BEGIN:VCALENDAR
VERSION:2.0
PRODID:SFPL Web Calendar
BEGIN:VEVENT
UID:60813@sfpl.org
DTSTAMP:20230513T220000Z
DTSTART:20230513T220000Z
DTEND:20230513T233000Z
SUMMARY:Workshop: AI Robots, a Hands–On Introduction
DESCRIPTION:<p>Have fun learning about modern autonomous robots using mBots, an educational tool for ages 8 and older. Participants will be divided into small groups to integrate subsystems into the autonomous robots.&nbsp;Masks encouraged.</p>

<p>This event is part of <a href="https://sfpl.org/locations/main-library/bridge-main-5th-floor/welcome-tech-week">SF Tech Week</a>.&nbsp;</p>

<p>Connect: SuperTech FT <a href="https://supertechft.org/">website</a>&nbsp;| <a href="https://www.linkedin.com/company/supertechft">LinkedIn</a></p>
LOCATION:Main Library - Latino/Hispanic Meeting Room A
CLASS:PUBLIC
TRANSP:TRANSPARENT
END:VEVENT
BEGIN:VALARM
TRIGGER:-PT1440M
ACTION:DISPLAY
DESCRIPTION:Event Reminder - Workshop: AI Robots, a Hands–On Introduction
END:VALARM
END:VCALENDAR